BEGIN:VCALENDAR
VERSION:2.0
PRODID:-//SpectrumX - ECPv6.14.2//NONSGML v1.0//EN
CALSCALE:GREGORIAN
METHOD:PUBLISH
X-WR-CALNAME:SpectrumX
X-ORIGINAL-URL:https://www.spectrumx.org
X-WR-CALDESC:Events for SpectrumX
REFRESH-INTERVAL;VALUE=DURATION:PT1H
X-Robots-Tag:noindex
X-PUBLISHED-TTL:PT1H
BEGIN:VTIMEZONE
TZID:America/New_York
BEGIN:DAYLIGHT
TZOFFSETFROM:-0500
TZOFFSETTO:-0400
TZNAME:EDT
DTSTART:20260308T070000
END:DAYLIGHT
BEGIN:STANDARD
TZOFFSETFROM:-0400
TZOFFSETTO:-0500
TZNAME:EST
DTSTART:20261101T060000
END:STANDARD
END:VTIMEZONE
BEGIN:VEVENT
DTSTART;TZID=America/New_York:20260518T080000
DTEND;TZID=America/New_York:20260522T170000
DTSTAMP:20260419T223725
CREATED:20251126T200125Z
LAST-MODIFIED:20251126T200125Z
UID:7509-1779091200-1779469200@www.spectrumx.org
SUMMARY:IEEE/IFIP Network Operations and Management Symposium (IEEE/IFIP NOMS) 2026
DESCRIPTION:From the IEEE NOMS website: \n\n\n\nIEEE/IFIP Network Operations and Management Symposium (NOMS) has merged with its sister conference IM\, bringing together the best of both outstanding conferences. This premier event brings together experts to explore the latest advancements in network operations and management. With keynotes\, technical sessions\, tutorials\, and workshops\, NOMS covers topics like network management\, service management\, business management\, and cutting-edge technologies. It’s the perfect platform to collaborate\, learn\, and shape the future of global connectivity. \n\n\n\nThis event will be held in Rome\, Italy. \nAdditional registration information will be available on the IEEE NOMS website.
URL:https://www.spectrumx.org/event/ieee-ifip-network-operations-and-management-symposium-ieee-ifip-noms-2026/
END:VEVENT
END:VCALENDAR