BEGIN:VCALENDAR
VERSION:2.0
PRODID:-//SpectrumX - ECPv6.14.2//NONSGML v1.0//EN
CALSCALE:GREGORIAN
METHOD:PUBLISH
X-WR-CALNAME:SpectrumX
X-ORIGINAL-URL:https://www.spectrumx.org
X-WR-CALDESC:Events for SpectrumX
REFRESH-INTERVAL;VALUE=DURATION:PT1H
X-Robots-Tag:noindex
X-PUBLISHED-TTL:PT1H
BEGIN:VTIMEZONE
TZID:America/New_York
BEGIN:DAYLIGHT
TZOFFSETFROM:-0500
TZOFFSETTO:-0400
TZNAME:EDT
DTSTART:20260308T070000
END:DAYLIGHT
BEGIN:STANDARD
TZOFFSETFROM:-0400
TZOFFSETTO:-0500
TZNAME:EST
DTSTART:20261101T060000
END:STANDARD
END:VTIMEZONE
BEGIN:VEVENT
DTSTART;TZID=America/New_York:20260511T080000
DTEND;TZID=America/New_York:20260514T170000
DTSTAMP:20260419T223513
CREATED:20251126T195608Z
LAST-MODIFIED:20251126T195729Z
UID:7508-1778486400-1778778000@www.spectrumx.org
SUMMARY:IEEE International Symposium on Dynamic Spectrum Access Networks (DySPAN)
DESCRIPTION:From the IEEE DySPAN website: \nDySPAN’26 welcomes research papers\, posters\, demos\, and tutorials relating to technology and policy issues that pertain to all aspects of advanced spectrum technologies. With an ever-growing demand for more wireless capacity and increasingly pervasive wireless applications\, high-efficiency spectrum technologies and management models are needed more than ever. As new technologies which operate at millimeter-wave (mmWave) and terahertz (THz) frequencies are becoming mainstream\, spectrum innovation needs to address a variety of frequency bands and tackle challenges in dynamically managing spectrum resources. Likewise\, spectrum allocation and assignment policies and techniques need to reliably meet an increased demand for local and private networks and the need to share with incumbent services. \nThis event will be held in Washington\, DC. It will be co-located with the WInnForum Annual General Meeting and the National Spectrum Management Association meeting. \nAdditional registration information will be available on the IEEE DySPAN website. \nWorkshops and Tutorial Proposal Deadline:  December 15\, 2025\nMain Program Papers Submission Deadline: December 29\, 2025\nWorkshop Paper Submission Deadline: February 27\, 2026\nPosters and Demos Submission Deadline: March 20\, 2026
URL:https://www.spectrumx.org/event/ieee-international-symposium-on-dynamic-spectrum-access-networks-dyspan/
END:VEVENT
END:VCALENDAR