BEGIN:VCALENDAR
VERSION:2.0
PRODID:-//SpectrumX - ECPv6.14.2//NONSGML v1.0//EN
CALSCALE:GREGORIAN
METHOD:PUBLISH
X-ORIGINAL-URL:https://www.spectrumx.org
X-WR-CALDESC:Events for SpectrumX
REFRESH-INTERVAL;VALUE=DURATION:PT1H
X-Robots-Tag:noindex
X-PUBLISHED-TTL:PT1H
BEGIN:VTIMEZONE
TZID:America/New_York
BEGIN:DAYLIGHT
TZOFFSETFROM:-0500
TZOFFSETTO:-0400
TZNAME:EDT
DTSTART:20260308T070000
END:DAYLIGHT
BEGIN:STANDARD
TZOFFSETFROM:-0400
TZOFFSETTO:-0500
TZNAME:EST
DTSTART:20261101T060000
END:STANDARD
END:VTIMEZONE
BEGIN:VEVENT
DTSTART;TZID=America/New_York:20260302T080000
DTEND;TZID=America/New_York:20260305T170000
DTSTAMP:20260422T102505
CREATED:20251126T192650Z
LAST-MODIFIED:20251126T193627Z
UID:10000231-1772438400-1772730000@www.spectrumx.org
SUMMARY:Mobile World Congress (MWC)
DESCRIPTION:From the MWC website: \nFrom eye-opening innovation to mind-expanding ideas\, global policy to lasting partnerships\, it all starts here. Whether you’re a key player in the connectivity ecosystem\, adjacent industries or the wider world of tech\, you’ll find all you need and more at MWC. \nThis event will be held in Barcelona\, Spain. \nRegistration will remain open throughout the event.
URL:https://www.spectrumx.org/event/mobile-world-congress-mwc/
END:VEVENT
BEGIN:VEVENT
DTSTART;TZID=America/New_York:20260308T080000
DTEND;TZID=America/New_York:20260312T170000
DTSTAMP:20260422T102505
CREATED:20251126T193441Z
LAST-MODIFIED:20251126T193441Z
UID:10000232-1772956800-1773334800@www.spectrumx.org
SUMMARY:International Conference on Wireless and Mobile Communications (ICWMC 2026)
DESCRIPTION:From the International Academy\, Research\, and Industry Association website: \nIn order to accommodate various situations\, we are offering the option for either physical presence or virtual participation (pdf slides or pre-recorded videos). ICWMC 2026 is colocated with the following events as part of InfoWare 2026 Congress.\nThis event will be held in Valencia\, Spain. \nRegistration deadline: Jan 18\, 2026
URL:https://www.spectrumx.org/event/international-conference-on-wireless-and-mobile-communications-icwmc-2026/
END:VEVENT
BEGIN:VEVENT
DTSTART;VALUE=DATE:20260323
DTEND;VALUE=DATE:20260327
DTSTAMP:20260422T102505
CREATED:20251222T142042Z
LAST-MODIFIED:20251222T142042Z
UID:10000246-1774224000-1774569599@www.spectrumx.org
SUMMARY:SATShow 2026
DESCRIPTION:From the SATShow website: \nSATShow Week is the industry’s first and largest experience of the year – uniting commercial innovators\, government and military decision-makers\, and end-users from 110+ countries in Washington\, D.C. Anchored by the flagship SATELLITE event and enriched by the dedicated GovMilSpace event\, it’s where critical conversations happen and business gets done. \nRegistration information can be found on the SATShow website.
URL:https://www.spectrumx.org/event/satshow-2026/
ORGANIZER;CN="SpectrumX":MAILTO:jhahn5@nd.edu
END:VEVENT
BEGIN:VEVENT
DTSTART;TZID=America/New_York:20260330T080000
DTEND;TZID=America/New_York:20260402T170000
DTSTAMP:20260422T102505
CREATED:20251126T194250Z
LAST-MODIFIED:20251126T194250Z
UID:10000233-1774857600-1775149200@www.spectrumx.org
SUMMARY:IEEE International Conference on Machine Learning in Communications and Networking (IEEE ICMLCN) 2026
DESCRIPTION:From the ICMLCN website: \n\nIEEE International Conference on Machine Learning for Communication and Networking (ICMLCN) brings together researchers from the disciplines of Machine Learning (ML) and Communication and Networking to focus on the latest advancements in machine learning for communication systems and networks. The program features distinguished keynotes\, technical sessions\, panels\, and workshops on topics such as distributed machine learning\, communication protocols for ML services\, and AI-driven network optimization. \n\nThis event will be held in Abu Dhabi\, United Arab Emirates. \nPlease visit the ICMLCN website for additional registraiton information.
URL:https://www.spectrumx.org/event/ieee-international-conference-on-machine-learning-in-communications-and-networking-ieee-icmlcn-2026/
END:VEVENT
END:VCALENDAR